BEGIN:VCALENDAR
VERSION:2.0
PRODID:-//Saskatchewan Polytechnic Faculty Association - ECPv6.15.20//NONSGML v1.0//EN
CALSCALE:GREGORIAN
METHOD:PUBLISH
X-WR-CALNAME:Saskatchewan Polytechnic Faculty Association
X-ORIGINAL-URL:https://spfa.ca
X-WR-CALDESC:Events for Saskatchewan Polytechnic Faculty Association
REFRESH-INTERVAL;VALUE=DURATION:PT1H
X-Robots-Tag:noindex
X-PUBLISHED-TTL:PT1H
BEGIN:VTIMEZONE
TZID:America/Regina
BEGIN:STANDARD
TZOFFSETFROM:-0600
TZOFFSETTO:-0600
TZNAME:CST
DTSTART:20240101T000000
END:STANDARD
END:VTIMEZONE
BEGIN:VEVENT
DTSTART;VALUE=DATE:20251028
DTEND;VALUE=DATE:20251108
DTSTAMP:20260420T035911
CREATED:20251010T202214Z
LAST-MODIFIED:20251105T150408Z
UID:2300-1761609600-1762559999@spfa.ca
SUMMARY:SPFA Executive Council - Nominations Close
DESCRIPTION:Secretary Treasury – 2 year term\, \nRegina Campus VP – 2 year term\, \nPrince Albert Campus VP – 2 year term\, \nSaskatoon Campus VP – 1 year term
URL:https://spfa.ca/event/spfa-executive-council-nominations-close/
END:VEVENT
BEGIN:VEVENT
DTSTART;VALUE=DATE:20251029
DTEND;VALUE=DATE:20251121
DTSTAMP:20260420T035911
CREATED:20251010T202546Z
LAST-MODIFIED:20251010T202717Z
UID:2301-1761696000-1763683199@spfa.ca
SUMMARY:SPFA Executive Council Elections - Candidate Campaigning (October 29\, 2025 to November 20\, 2025)
DESCRIPTION:Secretary Treasury – 2 year term\, \nRegina Campus VP – 2 year term\, \nPrince Albert Campus VP – 2 year term\, \nSaskatoon Campus VP – 1 year term
URL:https://spfa.ca/event/spfa-executive-council-elections-candidate-campaigning-october-29-2025-to-november-20-2025/
END:VEVENT
BEGIN:VEVENT
DTSTART;TZID=America/Regina:20251107T120000
DTEND;TZID=America/Regina:20251107T120000
DTSTAMP:20260420T035911
CREATED:20251105T202229Z
LAST-MODIFIED:20251105T202457Z
UID:2331-1762516800-1762516800@spfa.ca
SUMMARY:SPFA Executive Council Nomination Extension
DESCRIPTION:AGM-November 27\, 2025
URL:https://spfa.ca/event/spfa-executive-council-nomination-extension/
END:VEVENT
BEGIN:VEVENT
DTSTART;VALUE=DATE:20251111
DTEND;VALUE=DATE:20251112
DTSTAMP:20260420T035911
CREATED:20250905T163022Z
LAST-MODIFIED:20250905T163028Z
UID:2257-1762819200-1762905599@spfa.ca
SUMMARY:Remembrance Day
DESCRIPTION:
URL:https://spfa.ca/event/remembrance-day/
END:VEVENT
BEGIN:VEVENT
DTSTART;TZID=America/Regina:20251119T150000
DTEND;TZID=America/Regina:20251119T160000
DTSTAMP:20260420T035911
CREATED:20251119T140933Z
LAST-MODIFIED:20251119T140937Z
UID:2361-1763564400-1763568000@spfa.ca
SUMMARY:Prince Albert Vice President Forum - Session 1
DESCRIPTION:Due to scheduling conflicts\, these will be held in two separate sessions:\nSession 1: Wednesday\, November 19\, 2025\, at 3:00 p.m. – Candidate: Hamilton Greenwood\n\nZoom Link: https://us02web.zoom.us/j/83454944246?pwd=3cDc6YRXFabukagxHe5GOcfp2UjcnD.1 \nSession 2: Thursday\, November 20\, 2025\, at 8:00 a.m. – Candidate: Wendy Lemaigre \nZoom Link: https://us02web.zoom.us/j/88252047237?pwd=N0SLGAs2Mm2T6i28jNjaz1D4W8E6eF.1
URL:https://spfa.ca/event/prince-albert-vice-president-forum-session-1/
END:VEVENT
BEGIN:VEVENT
DTSTART;TZID=America/Regina:20251120T080000
DTEND;TZID=America/Regina:20251120T090000
DTSTAMP:20260420T035911
CREATED:20251119T141109Z
LAST-MODIFIED:20251119T141114Z
UID:2362-1763625600-1763629200@spfa.ca
SUMMARY:Prince Albert Vice President Forum - Session 2
DESCRIPTION:Due to scheduling conflicts\, these will be held in two separate sessions:\nSession 1: Wednesday\, November 19\, 2025\, at 3:00 p.m. – Candidate: Hamilton Greenwood\n\nZoom Link: https://us02web.zoom.us/j/83454944246?pwd=3cDc6YRXFabukagxHe5GOcfp2UjcnD.1 \nSession 2: Thursday\, November 20\, 2025\, at 8:00 a.m. – Candidate: Wendy Lemaigre \nZoom Link: https://us02web.zoom.us/j/88252047237?pwd=N0SLGAs2Mm2T6i28jNjaz1D4W8E6eF.1
URL:https://spfa.ca/event/prince-albert-vice-president-forum-session-2/
END:VEVENT
BEGIN:VEVENT
DTSTART;TZID=America/Regina:20251120T150000
DTEND;TZID=America/Regina:20251120T160000
DTSTAMP:20260420T035911
CREATED:20251119T140301Z
LAST-MODIFIED:20251119T142241Z
UID:2359-1763650800-1763654400@spfa.ca
SUMMARY:Saskatoon Vice President Forum
DESCRIPTION:Date: Thursday\, November 20\, 2025\nTime: 3:00 p.m.\nCandidates: Brittney Sondershausen\, George Ding\, Simon Lewis\n\nZoom Link: https://us02web.zoom.us/j/87810192665?pwd=5YhPnGQo9ATGxTEjn5Iapj7Ma9Qcva.1
URL:https://spfa.ca/event/saskatoon-vice-president-forum/
END:VEVENT
BEGIN:VEVENT
DTSTART;TZID=America/Regina:20251127T130000
DTEND;TZID=America/Regina:20251127T150000
DTSTAMP:20260420T035911
CREATED:20251007T151504Z
LAST-MODIFIED:20251007T174736Z
UID:2253-1764248400-1764255600@spfa.ca
SUMMARY:Annual SPFA AGM (Virtual)
DESCRIPTION:Join Zoom Meeting \nhttps://us02web.zoom.us/j/84493127615?pwd=i6UZoRT4tUi4HcHFAKFw15jbriRnLR.1 \n  \nMeeting ID: 844 9312 7615 \nPasscode: 455682
URL:https://spfa.ca/event/annual-spfa-agm-virtual/
END:VEVENT
END:VCALENDAR