BEGIN:VCALENDAR
VERSION:2.0
PRODID:-//Saskatchewan Polytechnic Faculty Association - ECPv6.15.20//NONSGML v1.0//EN
CALSCALE:GREGORIAN
METHOD:PUBLISH
X-ORIGINAL-URL:https://spfa.ca
X-WR-CALDESC:Events for Saskatchewan Polytechnic Faculty Association
REFRESH-INTERVAL;VALUE=DURATION:PT1H
X-Robots-Tag:noindex
X-PUBLISHED-TTL:PT1H
BEGIN:VTIMEZONE
TZID:America/Regina
BEGIN:STANDARD
TZOFFSETFROM:-0600
TZOFFSETTO:-0600
TZNAME:CST
DTSTART:20240101T000000
END:STANDARD
END:VTIMEZONE
BEGIN:VEVENT
DTSTART;VALUE=DATE:20251028
DTEND;VALUE=DATE:20251108
DTSTAMP:20260420T051245
CREATED:20251010T202214Z
LAST-MODIFIED:20251105T150408Z
UID:2300-1761609600-1762559999@spfa.ca
SUMMARY:SPFA Executive Council - Nominations Close
DESCRIPTION:Secretary Treasury – 2 year term\, \nRegina Campus VP – 2 year term\, \nPrince Albert Campus VP – 2 year term\, \nSaskatoon Campus VP – 1 year term
URL:https://spfa.ca/event/spfa-executive-council-nominations-close/
END:VEVENT
BEGIN:VEVENT
DTSTART;VALUE=DATE:20251029
DTEND;VALUE=DATE:20251121
DTSTAMP:20260420T051245
CREATED:20251010T202546Z
LAST-MODIFIED:20251010T202717Z
UID:2301-1761696000-1763683199@spfa.ca
SUMMARY:SPFA Executive Council Elections - Candidate Campaigning (October 29\, 2025 to November 20\, 2025)
DESCRIPTION:Secretary Treasury – 2 year term\, \nRegina Campus VP – 2 year term\, \nPrince Albert Campus VP – 2 year term\, \nSaskatoon Campus VP – 1 year term
URL:https://spfa.ca/event/spfa-executive-council-elections-candidate-campaigning-october-29-2025-to-november-20-2025/
END:VEVENT
END:VCALENDAR